BEGIN:VCALENDAR
VERSION:2.0
PRODID:-//Fairmount Indigo CDC Collaborative - ECPv6.15.18//NONSGML v1.0//EN
CALSCALE:GREGORIAN
METHOD:PUBLISH
X-WR-CALNAME:Fairmount Indigo CDC Collaborative
X-ORIGINAL-URL:https://ficcaction.org
X-WR-CALDESC:Events for Fairmount Indigo CDC Collaborative
REFRESH-INTERVAL;VALUE=DURATION:PT1H
X-Robots-Tag:noindex
X-PUBLISHED-TTL:PT1H
BEGIN:VTIMEZONE
TZID:America/New_York
BEGIN:DAYLIGHT
TZOFFSETFROM:-0500
TZOFFSETTO:-0400
TZNAME:EDT
DTSTART:20250309T070000
END:DAYLIGHT
BEGIN:STANDARD
TZOFFSETFROM:-0400
TZOFFSETTO:-0500
TZNAME:EST
DTSTART:20251102T060000
END:STANDARD
BEGIN:DAYLIGHT
TZOFFSETFROM:-0500
TZOFFSETTO:-0400
TZNAME:EDT
DTSTART:20260308T070000
END:DAYLIGHT
BEGIN:STANDARD
TZOFFSETFROM:-0400
TZOFFSETTO:-0500
TZNAME:EST
DTSTART:20261101T060000
END:STANDARD
BEGIN:DAYLIGHT
TZOFFSETFROM:-0500
TZOFFSETTO:-0400
TZNAME:EDT
DTSTART:20270314T070000
END:DAYLIGHT
BEGIN:STANDARD
TZOFFSETFROM:-0400
TZOFFSETTO:-0500
TZNAME:EST
DTSTART:20271107T060000
END:STANDARD
END:VTIMEZONE
BEGIN:VEVENT
DTSTART;TZID=America/New_York:20260427T100000
DTEND;TZID=America/New_York:20260427T130000
DTSTAMP:20260422T095856
CREATED:20260417T155631Z
LAST-MODIFIED:20260417T155631Z
UID:6351-1777284000-1777294800@ficcaction.org
SUMMARY:Boston 2030 Climate Action Plan Release Celebration
DESCRIPTION:Join us\, the city of Boston\, and community member and organizations in celebrating Earth Month with the release of Boston’s 2030 Climate Action Plan followed by a tree planting led by Tree Eastie!
URL:https://ficcaction.org/event/boston-2030-climate-action-plan-release-celebration/
LOCATION:LoPresti Park\, 33 Summer Street\, Boston\, 02128\, United States
ATTACH;FMTTYPE=image/png:https://ficcaction.org/wp-content/uploads/sites/51/2026/04/2026-Climate-Action-Plan-Event-Invite.png
END:VEVENT
END:VCALENDAR