BEGIN:VCALENDAR
VERSION:2.0
PRODID:-//Fairmount Indigo CDC Collaborative - ECPv6.15.18//NONSGML v1.0//EN
CALSCALE:GREGORIAN
METHOD:PUBLISH
X-WR-CALNAME:Fairmount Indigo CDC Collaborative
X-ORIGINAL-URL:https://ficcaction.org
X-WR-CALDESC:Events for Fairmount Indigo CDC Collaborative
REFRESH-INTERVAL;VALUE=DURATION:PT1H
X-Robots-Tag:noindex
X-PUBLISHED-TTL:PT1H
BEGIN:VTIMEZONE
TZID:America/New_York
BEGIN:DAYLIGHT
TZOFFSETFROM:-0500
TZOFFSETTO:-0400
TZNAME:EDT
DTSTART:20230312T070000
END:DAYLIGHT
BEGIN:STANDARD
TZOFFSETFROM:-0400
TZOFFSETTO:-0500
TZNAME:EST
DTSTART:20231105T060000
END:STANDARD
BEGIN:DAYLIGHT
TZOFFSETFROM:-0500
TZOFFSETTO:-0400
TZNAME:EDT
DTSTART:20240310T070000
END:DAYLIGHT
BEGIN:STANDARD
TZOFFSETFROM:-0400
TZOFFSETTO:-0500
TZNAME:EST
DTSTART:20241103T060000
END:STANDARD
BEGIN:DAYLIGHT
TZOFFSETFROM:-0500
TZOFFSETTO:-0400
TZNAME:EDT
DTSTART:20250309T070000
END:DAYLIGHT
BEGIN:STANDARD
TZOFFSETFROM:-0400
TZOFFSETTO:-0500
TZNAME:EST
DTSTART:20251102T060000
END:STANDARD
BEGIN:DAYLIGHT
TZOFFSETFROM:-0500
TZOFFSETTO:-0400
TZNAME:EDT
DTSTART:20260308T070000
END:DAYLIGHT
BEGIN:STANDARD
TZOFFSETFROM:-0400
TZOFFSETTO:-0500
TZNAME:EST
DTSTART:20261101T060000
END:STANDARD
BEGIN:DAYLIGHT
TZOFFSETFROM:-0500
TZOFFSETTO:-0400
TZNAME:EDT
DTSTART:20270314T070000
END:DAYLIGHT
BEGIN:STANDARD
TZOFFSETFROM:-0400
TZOFFSETTO:-0500
TZNAME:EST
DTSTART:20271107T060000
END:STANDARD
END:VTIMEZONE
BEGIN:VEVENT
DTSTART;TZID=America/New_York:20260203T180000
DTEND;TZID=America/New_York:20260203T200000
DTSTAMP:20260422T185848
CREATED:20260128T180806Z
LAST-MODIFIED:20260128T181010Z
UID:10000010-1770141600-1770148800@ficcaction.org
SUMMARY:Green Infrastructure Planning & Flood Mapping Climate Social
DESCRIPTION:Join us virtually via Zoom or in-person for an open house on the Boston Community-Based Flood Resilience project!\n\n\n\nJoin us to hear from the Boston Community-Based Flood Resilience project team and community partners. Learn how the results of our Boston Flood Survey are being used\, get access to local resources\, and explore the updated flood viewer tool. \nThere will be free food\, giveaways\, and printmaking activities. We hope to see you there! \nIn-person interpretation available in Spanish\, Haitian Créole\, and Chinese. Other languages available by request. Please email Joanna Argudo (jargudo@crwa.org) by January 27 to request a translation in another language. \nRegister for the Zoom meeting: https://us02web.zoom.us/meeting/register/GyZM87utRL6qsI3kt9l3RA
URL:https://ficcaction.org/event/green-infrastructure-planning-flood-mapping-climate-social/
LOCATION:Boston Civic Pavillion\, 5 Congress St\, Boston\, MA\, 02203\, United States
ATTACH;FMTTYPE=image/png:https://massenergize-wp-media.s3.us-east-2.amazonaws.com/sites/51/public-meeting-2.png
END:VEVENT
BEGIN:VEVENT
DTSTART;TZID=America/New_York:20241210T160000
DTEND;TZID=America/New_York:20241210T173000
DTSTAMP:20260422T185848
CREATED:20260106T163107Z
LAST-MODIFIED:20260106T163107Z
UID:10000008-1733846400-1733851800@ficcaction.org
SUMMARY:Boston Green New Deal Coalition Monthly Meeting
DESCRIPTION:Join the members of the Boston Green New Deal Coalition — a broad grassroots coalition of over 50 organizations and numerous individuals representing environmental\, advocacy and community-based groups with a shared mission to advance a just transition to a Green New Deal in Boston that centers the needs and rights of frontline and marginalized communities. All are welcomed\, even if you haven’t been to a meeting before.  \nThese meetings are typically hosted online via Zoom\, on the second Tuesday of every month from 5:00-6:30pm. \nEmail boston.gnd.coalition@gmail.com or check out the website linked above with any questions and to get involved.
URL:https://ficcaction.org/event/boston-green-new-deal-coalition-monthly-meeting/
ATTACH;FMTTYPE=image/jpeg:https://massenergize-wp-media.s3.us-east-2.amazonaws.com/sites/51/b79c173a-60ec-4d77-bfd6-5cc7bc27934e.jpg
END:VEVENT
BEGIN:VEVENT
DTSTART;TZID=America/New_York:20240713T130000
DTEND;TZID=America/New_York:20240713T150000
DTSTAMP:20260422T185848
CREATED:20260106T163103Z
LAST-MODIFIED:20260106T163103Z
UID:10000007-1720875600-1720882800@ficcaction.org
SUMMARY:Rally for Climate Justice!
DESCRIPTION:The current Massachusetts Legislative Session will end on July 31. We must let our representatives know that no climate legislation is NOT an option! Join the MA Youth Climate Coalition and Mass Power Forward coalitions as we push for our planet and justice — all are welcome. You can register to attend by clicking here! 
URL:https://ficcaction.org/event/rally-for-climate-justice/
LOCATION:Boston Common Bandstand\, 139 Tremont Street\, Boston\, Massachusetts\, US
ATTACH;FMTTYPE=image/jpeg:https://massenergize-wp-media.s3.us-east-2.amazonaws.com/sites/51/Stephen_Li_610_July_13th_rally_draft_flyer-240627-163023.jpg
END:VEVENT
END:VCALENDAR