BEGIN:VCALENDAR
VERSION:2.0
PRODID:-//Fairmount Indigo CDC Collaborative - ECPv6.15.18//NONSGML v1.0//EN
CALSCALE:GREGORIAN
METHOD:PUBLISH
X-ORIGINAL-URL:https://ficcaction.org
X-WR-CALDESC:Events for Fairmount Indigo CDC Collaborative
REFRESH-INTERVAL;VALUE=DURATION:PT1H
X-Robots-Tag:noindex
X-PUBLISHED-TTL:PT1H
BEGIN:VTIMEZONE
TZID:America/New_York
BEGIN:DAYLIGHT
TZOFFSETFROM:-0500
TZOFFSETTO:-0400
TZNAME:EDT
DTSTART:20250309T070000
END:DAYLIGHT
BEGIN:STANDARD
TZOFFSETFROM:-0400
TZOFFSETTO:-0500
TZNAME:EST
DTSTART:20251102T060000
END:STANDARD
BEGIN:DAYLIGHT
TZOFFSETFROM:-0500
TZOFFSETTO:-0400
TZNAME:EDT
DTSTART:20260308T070000
END:DAYLIGHT
BEGIN:STANDARD
TZOFFSETFROM:-0400
TZOFFSETTO:-0500
TZNAME:EST
DTSTART:20261101T060000
END:STANDARD
BEGIN:DAYLIGHT
TZOFFSETFROM:-0500
TZOFFSETTO:-0400
TZNAME:EDT
DTSTART:20270314T070000
END:DAYLIGHT
BEGIN:STANDARD
TZOFFSETFROM:-0400
TZOFFSETTO:-0500
TZNAME:EST
DTSTART:20271107T060000
END:STANDARD
END:VTIMEZONE
BEGIN:VEVENT
DTSTART;TZID=America/New_York:20260203T180000
DTEND;TZID=America/New_York:20260203T200000
DTSTAMP:20260422T185638
CREATED:20260128T180806Z
LAST-MODIFIED:20260128T181010Z
UID:10000010-1770141600-1770148800@ficcaction.org
SUMMARY:Green Infrastructure Planning & Flood Mapping Climate Social
DESCRIPTION:Join us virtually via Zoom or in-person for an open house on the Boston Community-Based Flood Resilience project!\n\n\n\nJoin us to hear from the Boston Community-Based Flood Resilience project team and community partners. Learn how the results of our Boston Flood Survey are being used\, get access to local resources\, and explore the updated flood viewer tool. \nThere will be free food\, giveaways\, and printmaking activities. We hope to see you there! \nIn-person interpretation available in Spanish\, Haitian Créole\, and Chinese. Other languages available by request. Please email Joanna Argudo (jargudo@crwa.org) by January 27 to request a translation in another language. \nRegister for the Zoom meeting: https://us02web.zoom.us/meeting/register/GyZM87utRL6qsI3kt9l3RA
URL:https://ficcaction.org/event/green-infrastructure-planning-flood-mapping-climate-social/
LOCATION:Boston Civic Pavillion\, 5 Congress St\, Boston\, MA\, 02203\, United States
ATTACH;FMTTYPE=image/png:https://massenergize-wp-media.s3.us-east-2.amazonaws.com/sites/51/public-meeting-2.png
END:VEVENT
BEGIN:VEVENT
DTSTART;TZID=America/New_York:20260206T093000
DTEND;TZID=America/New_York:20260206T110000
DTSTAMP:20260422T185638
CREATED:20260129T222823Z
LAST-MODIFIED:20260129T222823Z
UID:10000011-1770370200-1770375600@ficcaction.org
SUMMARY:Codman Square NDC Donuts with Delegates 🍩
DESCRIPTION:Every year\, the Massachusetts Association of Community Development Corporations (MACDC) supports CDCs across the state in inviting their state legislators to meet with them in their neighborhoods. Legislators\, CDC staff\, board members\, and community members get together over coffee\, breakfast\, and/or donuts to discuss what bills and state budget items will help their community thrive. \nThese meetings are win-win events: Legislators learn about what is happening in their district and how they can help as policymakers. CDCs can showcase the work they are doing and hear what their legislators are focusing on. Most importantly\, participants build relationships with each other. These relationships are what really makes good policy happen! All three of FICC’s member-CDCs are hosting a Donuts with Delegates meeting this year\, and residents from their service areas are welcome to join us! Your voice matters\, and we hope to see you there! Don’t know who your state policymakers are? Find out here: https://malegislature.gov/  \nPrimary neighborhoods: Central Dorchester & Mattapan. Which legislators represent this area?* Senator Nick Collins\, Senator Liz Miranda\, Representative Russell Holmes\, Representative Chris Worrell\, Representative Dan Hunt\, Representative Brandy Fluker-Reid \n*We cannot guarantee every legislator listed will be in attendance*
URL:https://ficcaction.org/event/codman-square-ndc-donuts-with-delegates-%f0%9f%8d%a9/
LOCATION:Talbot Bernard Senior Apartments Community Room\, 193 Talbot Ave\, Dorchester\, MA\, 02124\, United States
ATTACH;FMTTYPE=image/jpeg:https://massenergize-wp-media.s3.us-east-2.amazonaws.com/sites/51/IMG_4913.jpg
END:VEVENT
BEGIN:VEVENT
DTSTART;TZID=America/New_York:20260422T153000
DTEND;TZID=America/New_York:20260422T183000
DTSTAMP:20260422T185638
CREATED:20260417T155045Z
LAST-MODIFIED:20260417T160822Z
UID:10000012-1776871800-1776882600@ficcaction.org
SUMMARY:Grand-reopening of the OASIS On Ballou Farm
DESCRIPTION:Farm party on Earth Day?! Heck yeah! Join us and our member-CDC\, Codman Square Neighborhood Development Corporation (CDC)\, to celebrate the grand re-opening of their OASIS on Ballou Urban Farm since it underwent significant renovations! Meet your neighbors\, tour the farm\, and enjoy some light food and refreshments. \nFor more information and RSVP: Gran-reopening RSVP Form
URL:https://ficcaction.org/event/grand-reopening-of-the-oasis-on-ballou-farm/
LOCATION:Oasis on Ballou Farm\, 100 Ballou Ave\, Dorchester\, MA\, 02124\, United States
ATTACH;FMTTYPE=image/png:https://ficcaction.org/wp-content/uploads/sites/51/2026/04/Save-the-date-4.png
END:VEVENT
BEGIN:VEVENT
DTSTART;TZID=America/New_York:20260427T100000
DTEND;TZID=America/New_York:20260427T130000
DTSTAMP:20260422T185638
CREATED:20260417T155631Z
LAST-MODIFIED:20260417T155631Z
UID:10000013-1777284000-1777294800@ficcaction.org
SUMMARY:Boston 2030 Climate Action Plan Release Celebration
DESCRIPTION:Join us\, the city of Boston\, and community member and organizations in celebrating Earth Month with the release of Boston’s 2030 Climate Action Plan followed by a tree planting led by Tree Eastie!
URL:https://ficcaction.org/event/boston-2030-climate-action-plan-release-celebration/
LOCATION:LoPresti Park\, 33 Summer Street\, Boston\, 02128\, United States
ATTACH;FMTTYPE=image/png:https://ficcaction.org/wp-content/uploads/sites/51/2026/04/2026-Climate-Action-Plan-Event-Invite.png
END:VEVENT
END:VCALENDAR